BEGIN:VCALENDAR
CALSCALE:GREGORIAN
X-WR-TIMEZONE;VALUE=TEXT:GMT
PRODID:ANTIQUES PROMOTION - APCal -X-WR-CALNAME;VALUE=TEXT:0VERSION:2.0
METHOD:PUBLISH
BEGIN:VTIMEZONE
TZID:GMT
BEGIN:STANDARD
DTSTART:19390101T000000
TZOFFSETFROM:+0000
TZOFFSETTO:+0000
TZNAME:GMT
END:STANDARD
END:VTIMEZONE
BEGIN:VEVENT
DTSTART:20180421T100000Z
DTEND:20180421T103000Z
LOCATION:<p>Waldgasthaus Naturfreunde</p><p>5122 Hochburg-Ach, Birkenweg 44</p>
TRANSP:OPAQUE
SEQUENCE:1
UID:apcal060-81ee14b2d6802001c53014f5a71ca038
DTSTAMP:20180427T130322Z
CATEGORIES:MTB-Race
DESCRIPTION:
SUMMARY:3. Naturfreunde FunSport Kindercup
PRIORITY:0
CLASS:PUBLIC
END:VEVENT
END:VCALENDAR
