BEGIN:VCALENDAR
CALSCALE:GREGORIAN
X-WR-TIMEZONE;VALUE=TEXT:GMT
PRODID:ANTIQUES PROMOTION - APCal -X-WR-CALNAME;VALUE=TEXT:0VERSION:2.0
METHOD:PUBLISH
BEGIN:VTIMEZONE
TZID:GMT
BEGIN:STANDARD
DTSTART:19390101T000000
TZOFFSETFROM:+0000
TZOFFSETTO:+0000
TZNAME:GMT
END:STANDARD
END:VTIMEZONE
BEGIN:VEVENT
DTSTART:20171028T120000Z
DTEND:20171028T133000Z
LOCATION:<p>Waldgasthaus Naturfreunde<br /> 5122 Hochburg-Ach, Birkenweg 44</p>
TRANSP:OPAQUE
SEQUENCE:1
UID:apcal060-a125bcaeef73edd4f8d4496dafefffdb
DTSTAMP:20180102T105249Z
CATEGORIES:MTB-Race
DESCRIPTION:
SUMMARY:3. Naturfreunde/FunSport MTB-Cup
PRIORITY:0
CLASS:PUBLIC
END:VEVENT
END:VCALENDAR
