BEGIN:VCALENDAR
CALSCALE:GREGORIAN
X-WR-TIMEZONE;VALUE=TEXT:GMT
PRODID:ANTIQUES PROMOTION - APCal -X-WR-CALNAME;VALUE=TEXT:0VERSION:2.0
METHOD:PUBLISH
BEGIN:VTIMEZONE
TZID:GMT
BEGIN:STANDARD
DTSTART:19390101T000000
TZOFFSETFROM:+0000
TZOFFSETTO:+0000
TZNAME:GMT
END:STANDARD
END:VTIMEZONE
BEGIN:VEVENT
DTSTART:20160618T153000Z
DTEND:20160618T170000Z
LOCATION:<p>Sportpark SV Mehring<br />Scheibelbergstraße 6<br />84561 Mehring</p>
TRANSP:OPAQUE
SEQUENCE:2
UID:apcal060-d5d3ad66941b34f28d8afdbfa7fd664f
DTSTAMP:20160613T110217Z
CATEGORIES:MTB-Race
DESCRIPTION:
SUMMARY:2. SV-Mehring FunSport Cup
PRIORITY:0
CLASS:PUBLIC
END:VEVENT
END:VCALENDAR
