BEGIN:VCALENDAR
CALSCALE:GREGORIAN
X-WR-TIMEZONE;VALUE=TEXT:GMT
PRODID:ANTIQUES PROMOTION - APCal -X-WR-CALNAME;VALUE=TEXT:0VERSION:2.0
METHOD:PUBLISH
BEGIN:VTIMEZONE
TZID:GMT
BEGIN:STANDARD
DTSTART:19390101T000000
TZOFFSETFROM:+0000
TZOFFSETTO:+0000
TZNAME:GMT
END:STANDARD
END:VTIMEZONE
BEGIN:VEVENT
DTSTART:20160702T140000Z
DTEND:20160702T143000Z
LOCATION:<p>Waldgasthaus Naturfreunde<br /> 5122 Hochburg-Ach, Birkenweg 44</p>
TRANSP:OPAQUE
SEQUENCE:1
UID:apcal060-6579f75c8bc4bf9a3a5ed4faf45f670b
DTSTAMP:20171113T065839Z
CATEGORIES:MTB-Race
DESCRIPTION:
SUMMARY:1. Naturfreunde FunSport Kindercup
PRIORITY:0
CLASS:PUBLIC
END:VEVENT
END:VCALENDAR
