BEGIN:VCALENDAR
CALSCALE:GREGORIAN
X-WR-TIMEZONE;VALUE=TEXT:GMT
PRODID:ANTIQUES PROMOTION - APCal -X-WR-CALNAME;VALUE=TEXT:0VERSION:2.0
METHOD:PUBLISH
BEGIN:VTIMEZONE
TZID:GMT
BEGIN:STANDARD
DTSTART:19390101T000000
TZOFFSETFROM:+0000
TZOFFSETTO:+0000
TZNAME:GMT
END:STANDARD
END:VTIMEZONE
BEGIN:VEVENT
DTSTART:20141121T090000Z
DTEND:20141121T130000Z
LOCATION:<p>musterstadt</p>
TRANSP:OPAQUE
SEQUENCE:1
UID:apcal060-f0ccc6d3233be6d0e39556d4ae5ae105
DTSTAMP:20150915T044508Z
CATEGORIES:MTB-Race
DESCRIPTION:
SUMMARY:Testwettkampf 1
PRIORITY:0
CLASS:PUBLIC
END:VEVENT
END:VCALENDAR
